BEGIN:VCALENDAR
VERSION:2.0
PRODID:-//Tif Marcelo - ECPv6.15.20//NONSGML v1.0//EN
CALSCALE:GREGORIAN
METHOD:PUBLISH
X-WR-CALNAME:Tif Marcelo
X-ORIGINAL-URL:https://tifmarcelo.com
X-WR-CALDESC:Events for Tif Marcelo
REFRESH-INTERVAL;VALUE=DURATION:PT1H
X-Robots-Tag:noindex
X-PUBLISHED-TTL:PT1H
BEGIN:VTIMEZONE
TZID:America/New_York
BEGIN:DAYLIGHT
TZOFFSETFROM:-0500
TZOFFSETTO:-0400
TZNAME:EDT
DTSTART:20240310T070000
END:DAYLIGHT
BEGIN:STANDARD
TZOFFSETFROM:-0400
TZOFFSETTO:-0500
TZNAME:EST
DTSTART:20241103T060000
END:STANDARD
BEGIN:DAYLIGHT
TZOFFSETFROM:-0500
TZOFFSETTO:-0400
TZNAME:EDT
DTSTART:20250309T070000
END:DAYLIGHT
BEGIN:STANDARD
TZOFFSETFROM:-0400
TZOFFSETTO:-0500
TZNAME:EST
DTSTART:20251102T060000
END:STANDARD
BEGIN:DAYLIGHT
TZOFFSETFROM:-0500
TZOFFSETTO:-0400
TZNAME:EDT
DTSTART:20260308T070000
END:DAYLIGHT
BEGIN:STANDARD
TZOFFSETFROM:-0400
TZOFFSETTO:-0500
TZNAME:EST
DTSTART:20261101T060000
END:STANDARD
END:VTIMEZONE
BEGIN:VEVENT
DTSTART;TZID=America/New_York:20250727T080000
DTEND;TZID=America/New_York:20250728T170000
DTSTAMP:20260422T193121
CREATED:20250619T123810Z
LAST-MODIFIED:20250724T144242Z
UID:658-1753603200-1753722000@tifmarcelo.com
SUMMARY:Miss Willa's Bookshop Grand Opening
DESCRIPTION:
URL:https://tifmarcelo.com/event/miss-willas-bookshop-grand-opening/
LOCATION:Miss Willa’s Bookshop\, 201 North George Street\, Charles Town\, West Virginia\, 25414
ATTACH;FMTTYPE=image/png:https://tifmarcelo.com/wp-content/uploads/2025/06/Untitled-design-3.png
END:VEVENT
END:VCALENDAR