BEGIN:VCALENDAR
VERSION:2.0
PRODID:-//Tif Marcelo - ECPv6.15.20//NONSGML v1.0//EN
CALSCALE:GREGORIAN
METHOD:PUBLISH
X-WR-CALNAME:Tif Marcelo
X-ORIGINAL-URL:https://tifmarcelo.com
X-WR-CALDESC:Events for Tif Marcelo
REFRESH-INTERVAL;VALUE=DURATION:PT1H
X-Robots-Tag:noindex
X-PUBLISHED-TTL:PT1H
BEGIN:VTIMEZONE
TZID:America/New_York
BEGIN:DAYLIGHT
TZOFFSETFROM:-0500
TZOFFSETTO:-0400
TZNAME:EDT
DTSTART:20230312T070000
END:DAYLIGHT
BEGIN:STANDARD
TZOFFSETFROM:-0400
TZOFFSETTO:-0500
TZNAME:EST
DTSTART:20231105T060000
END:STANDARD
BEGIN:DAYLIGHT
TZOFFSETFROM:-0500
TZOFFSETTO:-0400
TZNAME:EDT
DTSTART:20240310T070000
END:DAYLIGHT
BEGIN:STANDARD
TZOFFSETFROM:-0400
TZOFFSETTO:-0500
TZNAME:EST
DTSTART:20241103T060000
END:STANDARD
BEGIN:DAYLIGHT
TZOFFSETFROM:-0500
TZOFFSETTO:-0400
TZNAME:EDT
DTSTART:20250309T070000
END:DAYLIGHT
BEGIN:STANDARD
TZOFFSETFROM:-0400
TZOFFSETTO:-0500
TZNAME:EST
DTSTART:20251102T060000
END:STANDARD
END:VTIMEZONE
BEGIN:VEVENT
DTSTART;TZID=America/New_York:20241027T113000
DTEND;TZID=America/New_York:20241027T180000
DTSTAMP:20260423T095630
CREATED:20241025T152302Z
LAST-MODIFIED:20241025T152700Z
UID:577-1730028600-1730052000@tifmarcelo.com
SUMMARY:Liwanag Lit Fest DC
DESCRIPTION:
URL:https://tifmarcelo.com/event/liwanag-lit-fest-dc/
LOCATION:Loyalty Bookstores\, 843 Upshur Street NW\, Washington\, DC\, 20011\, United States
ATTACH;FMTTYPE=image/png:https://tifmarcelo.com/wp-content/uploads/2024/10/TifMarceloLiwanagLitFest.png
END:VEVENT
END:VCALENDAR