BEGIN:VCALENDAR
VERSION:2.0
PRODID:-//Tif Marcelo - ECPv6.15.20//NONSGML v1.0//EN
CALSCALE:GREGORIAN
METHOD:PUBLISH
X-ORIGINAL-URL:https://tifmarcelo.com
X-WR-CALDESC:Events for Tif Marcelo
REFRESH-INTERVAL;VALUE=DURATION:PT1H
X-Robots-Tag:noindex
X-PUBLISHED-TTL:PT1H
BEGIN:VTIMEZONE
TZID:America/New_York
BEGIN:DAYLIGHT
TZOFFSETFROM:-0500
TZOFFSETTO:-0400
TZNAME:EDT
DTSTART:20220313T070000
END:DAYLIGHT
BEGIN:STANDARD
TZOFFSETFROM:-0400
TZOFFSETTO:-0500
TZNAME:EST
DTSTART:20221106T060000
END:STANDARD
BEGIN:DAYLIGHT
TZOFFSETFROM:-0500
TZOFFSETTO:-0400
TZNAME:EDT
DTSTART:20230312T070000
END:DAYLIGHT
BEGIN:STANDARD
TZOFFSETFROM:-0400
TZOFFSETTO:-0500
TZNAME:EST
DTSTART:20231105T060000
END:STANDARD
BEGIN:DAYLIGHT
TZOFFSETFROM:-0500
TZOFFSETTO:-0400
TZNAME:EDT
DTSTART:20240310T070000
END:DAYLIGHT
BEGIN:STANDARD
TZOFFSETFROM:-0400
TZOFFSETTO:-0500
TZNAME:EST
DTSTART:20241103T060000
END:STANDARD
END:VTIMEZONE
BEGIN:VEVENT
DTSTART;TZID=America/New_York:20230301T200000
DTEND;TZID=America/New_York:20230301T210000
DTSTAMP:20260424T142014
CREATED:20230131T121531Z
LAST-MODIFIED:20230131T121531Z
UID:370-1677700800-1677704400@tifmarcelo.com
SUMMARY:February Funnies Virtual Roundtable
DESCRIPTION:Join us as we gather a panel of authors with rom-coms out in February! Melonie Johnson\, April Asher\, and Alexis Daria will sit down (or\, Zoom in) with Tif Marcelo for a delightful evening discussing rom\, com\, and everything in between!
URL:https://tifmarcelo.com/event/february-funnies-virtual-roundtable/
LOCATION:PA
END:VEVENT
BEGIN:VEVENT
DTSTART;TZID=America/New_York:20230307T190000
DTEND;TZID=America/New_York:20230307T200000
DTSTAMP:20260424T142014
CREATED:20230214T201546Z
LAST-MODIFIED:20230214T201546Z
UID:394-1678215600-1678219200@tifmarcelo.com
SUMMARY:Book event with Gwenda Bond for Mr. and Mrs. Witch
DESCRIPTION:
URL:https://tifmarcelo.com/event/book-event-with-gwenda-bond-for-mr-and-mrs-witch/
LOCATION:Joseph Beth Booksellers\, 161 Lexington Green Circle\, Lexington\, 40503\, United States
END:VEVENT
END:VCALENDAR